BEGIN:VCALENDAR
VERSION:2.0
PRODID:-//APEEEL2 - ECPv4.6.19//NONSGML v1.0//EN
CALSCALE:GREGORIAN
METHOD:PUBLISH
X-WR-CALNAME:APEEEL2
X-ORIGINAL-URL:http://www.apeeel2.lu
X-WR-CALDESC:Events for APEEEL2
BEGIN:VEVENT
DTSTART;VALUE=DATE:20180901
DTEND;VALUE=DATE:20180902
DTSTAMP:20180702T231232
CREATED:20180619T070216Z
LAST-MODIFIED:20180619T071136Z
UID:8767-1535760000-1535846399@www.apeeel2.lu
SUMMARY:Calculator Group Purchase - deadline 01/09/2018
DESCRIPTION:Deadline for joining our group purchase for the calculator required for S3 pupils entering S4. If your child is not entering S4 but you are still interested in participating in the group purchase\, please contact us on  office@apeeel2.lu. \nDate limite pour participer à notre achat groupé de calculatrices pour les élèves de S3 entrant en S4. Si votre enfant n’entre pas en S4 mais vous êtes malgré tout intéressé de participer à cet achat groupé\, merci de nous contacter sur office@apeeel2.lu \nREAD MORE: http://www.apeeel2.lu/calculator-group-purchase-deadline-01-09-2018/ \n
URL:http://www.apeeel2.lu/event/calculator-group-purchase-deadline-01-09-2018/
END:VEVENT
END:VCALENDAR