BEGIN:VCALENDAR
VERSION:2.0
PRODID:-//APEEEL2 - ECPv4.6.19//NONSGML v1.0//EN
CALSCALE:GREGORIAN
METHOD:PUBLISH
X-WR-CALNAME:APEEEL2
X-ORIGINAL-URL:http://www.apeeel2.lu
X-WR-CALDESC:Events for APEEEL2
BEGIN:VEVENT
DTSTART;VALUE=DATE:20180706
DTEND;VALUE=DATE:20180707
DTSTAMP:20180702T230644
CREATED:20180516T081303Z
LAST-MODIFIED:20180516T081303Z
UID:8351-1530835200-1530921599@www.apeeel2.lu
SUMMARY:End of school year for Nursery & Primary pupils
DESCRIPTION:Fin des cours pour les élèves de maternelle et de primaire. \n
URL:http://www.apeeel2.lu/event/end-of-school-year-for-nursery-primary-pupils/
END:VEVENT
END:VCALENDAR