BEGIN:VCALENDAR
VERSION:2.0
PRODID:-//APEEEL2 - ECPv4.6.19//NONSGML v1.0//EN
CALSCALE:GREGORIAN
METHOD:PUBLISH
X-WR-CALNAME:APEEEL2
X-ORIGINAL-URL:http://www.apeeel2.lu
X-WR-CALDESC:Events for APEEEL2
BEGIN:VEVENT
DTSTART;VALUE=DATE:20180622
DTEND;VALUE=DATE:20180623
DTSTAMP:20180702T231208
CREATED:20180516T081011Z
LAST-MODIFIED:20180516T082145Z
UID:8349-1529625600-1529711999@www.apeeel2.lu
SUMMARY:End of school year for S1-S6 pupils
DESCRIPTION:Fin des cours pour les élèves de S1-S6 \n  \n
URL:http://www.apeeel2.lu/event/end-of-school-year-for-s1-s6-pupils-2/
END:VEVENT
END:VCALENDAR