BEGIN:VCALENDAR
VERSION:2.0
PRODID:-//APEEEL2 - ECPv4.6.19//NONSGML v1.0//EN
CALSCALE:GREGORIAN
METHOD:PUBLISH
X-WR-CALNAME:APEEEL2
X-ORIGINAL-URL:http://www.apeeel2.lu
X-WR-CALDESC:Events for APEEEL2
BEGIN:VEVENT
DTSTART;TZID=UTC+0:20180208T193000
DTEND;TZID=UTC+0:20180208T220000
DTSTAMP:20180702T231538
CREATED:20180115T081437Z
LAST-MODIFIED:20180117T153503Z
UID:6687-1518118200-1518127200@www.apeeel2.lu
SUMMARY:School Disco for S1\, S2 & S3 pupils
DESCRIPTION:School Disco at Lux 2 for S1\, S2 & S3 pupils coming from Lux 1 and Lux 2. \n  \nFOR MORE INFORMATION: \nhttp://www.apeeel2.lu/disco-evening-for-s1-s2-s3-pupils-08-02-2018/ \n  \n
URL:http://www.apeeel2.lu/event/school-disco-for-s1-s2-s3-pupils/
END:VEVENT
END:VCALENDAR